BEGIN:VCALENDAR
VERSION:2.0
PRODID:-//CSCCE - ECPv6.10.3//NONSGML v1.0//EN
CALSCALE:GREGORIAN
METHOD:PUBLISH
X-ORIGINAL-URL:https://www.cscce.org
X-WR-CALDESC:Events for CSCCE
REFRESH-INTERVAL;VALUE=DURATION:PT1H
X-Robots-Tag:noindex
X-PUBLISHED-TTL:PT1H
BEGIN:VTIMEZONE
TZID:America/New_York
BEGIN:DAYLIGHT
TZOFFSETFROM:-0500
TZOFFSETTO:-0400
TZNAME:EDT
DTSTART:20240310T070000
END:DAYLIGHT
BEGIN:STANDARD
TZOFFSETFROM:-0400
TZOFFSETTO:-0500
TZNAME:EST
DTSTART:20241103T060000
END:STANDARD
END:VTIMEZONE
BEGIN:VEVENT
DTSTART;TZID=America/New_York:20240228T110000
DTEND;TZID=America/New_York:20240228T123000
DTSTAMP:20260420T173711
CREATED:20240110T011310Z
LAST-MODIFIED:20240110T011539Z
UID:10000242-1709118000-1709123400@www.cscce.org
SUMMARY:CSCCE Monthly Community Call
DESCRIPTION:Topic: The informational roles of community-engaged content \nZoom link to join: https://us02web.zoom.us/j/89529518276?pwd=TmpEU2w1MXRzYjlsVGhZM2VJdStyUT09
URL:https://www.cscce.org/event/cscce-monthly-community-call-9/
LOCATION:https://us02web.zoom.us/j/89529518276?pwd=TmpEU2w1MXRzYjlsVGhZM2VJdStyUT09
CATEGORIES:community calls
END:VEVENT
END:VCALENDAR