BEGIN:VCALENDAR
VERSION:2.0
PRODID:-//CSCCE - ECPv6.10.3//NONSGML v1.0//EN
CALSCALE:GREGORIAN
METHOD:PUBLISH
X-ORIGINAL-URL:https://www.cscce.org
X-WR-CALDESC:Events for CSCCE
REFRESH-INTERVAL;VALUE=DURATION:PT1H
X-Robots-Tag:noindex
X-PUBLISHED-TTL:PT1H
BEGIN:VTIMEZONE
TZID:America/New_York
BEGIN:DAYLIGHT
TZOFFSETFROM:-0500
TZOFFSETTO:-0400
TZNAME:EDT
DTSTART:20200308T070000
END:DAYLIGHT
BEGIN:STANDARD
TZOFFSETFROM:-0400
TZOFFSETTO:-0500
TZNAME:EST
DTSTART:20201101T060000
END:STANDARD
END:VTIMEZONE
BEGIN:VEVENT
DTSTART;TZID=America/New_York:20201216T140000
DTEND;TZID=America/New_York:20201216T153000
DTSTAMP:20260425T134523
CREATED:20201026T212321Z
LAST-MODIFIED:20201216T235413Z
UID:10000199-1608127200-1608132600@www.cscce.org
SUMMARY:December community call - potluck party
DESCRIPTION:Join us for our annual potluck party.  Click here to join. 
URL:https://www.cscce.org/event/december-community-call-potluck-party/
LOCATION:https://us02web.zoom.us/j/81456080963?pwd=M3JhQ1ViVUJOeGp5MDRtYWVTTVU5dz09
CATEGORIES:community calls
END:VEVENT
END:VCALENDAR