BEGIN:VCALENDAR
VERSION:2.0
PRODID:-//CSCCE - ECPv6.10.3//NONSGML v1.0//EN
CALSCALE:GREGORIAN
METHOD:PUBLISH
X-WR-CALNAME:CSCCE
X-ORIGINAL-URL:https://www.cscce.org
X-WR-CALDESC:Events for CSCCE
REFRESH-INTERVAL;VALUE=DURATION:PT1H
X-Robots-Tag:noindex
X-PUBLISHED-TTL:PT1H
BEGIN:VTIMEZONE
TZID:America/New_York
BEGIN:DAYLIGHT
TZOFFSETFROM:-0500
TZOFFSETTO:-0400
TZNAME:EDT
DTSTART:20250309T070000
END:DAYLIGHT
BEGIN:STANDARD
TZOFFSETFROM:-0400
TZOFFSETTO:-0500
TZNAME:EST
DTSTART:20251102T060000
END:STANDARD
END:VTIMEZONE
BEGIN:VEVENT
DTSTART;TZID=America/New_York:20250205T110000
DTEND;TZID=America/New_York:20250205T130000
DTSTAMP:20260421T200641
CREATED:20241107T161209Z
LAST-MODIFIED:20250109T195943Z
UID:10000254-1738753200-1738760400@www.cscce.org
SUMMARY:Mini-workshop | Preparing for large-scale collaborations
DESCRIPTION:In this first of a two part series of two-hour workshops\, participants will explore dimensions of team readiness for large\, multi-stakeholder collaborative initiatives and how a team readiness assessment can be used to identify the stage of their project and which areas they need to address as a priority. By the end of this workshop\, participants will have drafted a survey for their project\, and be ready to determine how to translate the survey responses into practical next steps in the second workshop. \nPrice (for both sessions): $300\nRegister here: https://www.eventbrite.com/e/cscce-mini-workshops-preparing-designing-for-large-scale-collaborations-tickets-1074971852749\nRegistration deadline: Friday\, 31 January 2025
URL:https://www.cscce.org/event/mini-workshop-preparing-for-large-scale-collaborations-2/
CATEGORIES:professional development training
END:VEVENT
END:VCALENDAR